BEGIN:VCALENDAR
VERSION:2.0
PRODID:-//ChamberMaster//Event Calendar 2.0//EN
METHOD:PUBLISH
X-PUBLISHED-TTL:P3D
REFRESH-INTERVAL:P3D
CALSCALE:GREGORIAN
BEGIN:VEVENT
DTSTART:20110622T123000Z
DTEND:20110622T150000Z
X-MICROSOFT-CDO-ALLDAYEVENT:FALSE
SUMMARY:Bike to Work Day at Interlocken East Park!
DESCRIPTION:Please join us to support bike commuting in Broomfield!\n\n\n\nThe Interlocken East Park breakfast station welcomes 250-300 cyclists each year on Bike to Work Day\, making it one of the largest stations in the Denver region.\n\n\n\nWhat is Bike to Work Day?  Bike to Work Day takes place June 22\, 2011\, and is the Denver region?s largest annual bicycle commuting event.  Each year nearly 30\,000 commuters leave their cars at home to enjoy the benefits of getting to work on two wheels.  In 2010\, over 6\,000 U.S. 36 bicyclists participated in Bike to Work Day\, accounting for more than 30% of the Denver Metro region?s participants.  Bike to Work Day is sponsored by the Denver Regional Council of Governments (DRCOG)\, which brings together cities\, counties\, CDOT\, RTD\, community organizations and businesses across the state to educate commuters about the health and environmental benefits of bicycling.
X-ALT-DESC;FMTTYPE=text/html:Please join us to support bike commuting in Broomfield!\n<br>\n<br>The Interlocken East Park breakfast station welcomes 250-300 cyclists each year on Bike to Work Day\, making it one of the largest stations in the Denver region.\n<br>\n<br>What is Bike to Work Day?  Bike to Work Day takes place June 22\, 2011\, and is the Denver region?s largest annual bicycle commuting event.  Each year nearly 30\,000 commuters leave their cars at home to enjoy the benefits of getting to work on two wheels.  In 2010\, over 6\,000 U.S. 36 bicyclists participated in Bike to Work Day\, accounting for more than 30% of the Denver Metro region?s participants.  Bike to Work Day is sponsored by the Denver Regional Council of Governments (DRCOG)\, which brings together cities\, counties\, CDOT\, RTD\, community organizations and businesses across the state to educate commuters about the health and environmental benefits of bicycling.  
LOCATION:Interlocken East Park (near 280 Interlocken Blvd.\, Broomfield\, CO 80021)
UID:e.641.1435
SEQUENCE:3
DTSTAMP:20260420T063831Z
URL:http://business.broomfieldchamber.com/events/details/bike-to-work-day-at-interlocken-east-park-06-22-2011-1435
END:VEVENT

END:VCALENDAR
