BEGIN:VCALENDAR
VERSION:2.0
PRODID:-//ChamberMaster//Event Calendar 2.0//EN
METHOD:PUBLISH
X-PUBLISHED-TTL:P3D
REFRESH-INTERVAL:P3D
CALSCALE:GREGORIAN
BEGIN:VEVENT
DTSTART;VALUE=DATE:20120116
DTEND;VALUE=DATE:20120117
TRANSP:TRANSPARENT
X-MICROSOFT-CDO-ALLDAYEVENT:TRUE
SUMMARY:Birthday of Martin Luther King\, Jr.
DESCRIPTION:The Broomfield Chamber Office will be closed all day on Monday\, January 16 in observance of Martin Luther King Jr.'s birthday. If you are in need of any information regarding the Chamber please go to: http://www.broomfieldchamber.com/
X-ALT-DESC;FMTTYPE=text/html:The Broomfield Chamber Office will be closed all day on Monday\, January 16 in observance of Martin Luther King Jr.&#39\;s birthday. If you are in need of any information regarding the Chamber please go to: <a href="http://www.broomfieldchamber.com/">http://www.broomfieldchamber.com/</a>
LOCATION:
UID:e.641.3166
SEQUENCE:3
DTSTAMP:20260419T210033Z
URL:http://business.broomfieldchamber.com/events/details/birthday-of-martin-luther-king-jr-01-16-2012-3166
END:VEVENT

END:VCALENDAR
