BEGIN:VCALENDAR
VERSION:2.0
PRODID:-//ChamberMaster//Event Calendar 2.0//EN
METHOD:PUBLISH
X-PUBLISHED-TTL:P3D
REFRESH-INTERVAL:P3D
CALSCALE:GREGORIAN
BEGIN:VEVENT
DTSTART:20111026T230000Z
DTEND:20111027T040000Z
X-MICROSOFT-CDO-ALLDAYEVENT:FALSE
SUMMARY:BJ's Pizza Grill Dining to End Domestic Violence
DESCRIPTION:Dine at Bj's Pizza Grill on October 26\, bring the flyer and BJ's will donate 25% of the proceeds to us!\n\n\n\nOctober is Domestic Violence Awareness Month\, and on behalf of Safehouse Progressive Alliance for Nonviolence (SPAN)\, We are pleased to invite you to be a part of Dining to End Domestic Violence. This month-long series of fundraising events will support services for domestic violence survivors and their children in Boulder and Broomfield Counties.\n\n\n\nSince 1979 SPAN has been providing healing\, hope and opportunity to adults and children who are impacted by abuse. Our Domestic Violence Awareness Month events are a critical component to raising the funds needed to provide safe\, confidential emergency shelter\, counseling\, legal advocacy and more to hundreds of people each year. These services are changing lives\, even saving lives right here in our own community!\n\nAll proceeds support the Safehouse Progressive Alliance for Nonviolence.
X-ALT-DESC;FMTTYPE=text/html:Dine at&nbsp\;Bj&#39\;s Pizza Grill&nbsp\;on October 26\, bring the flyer&nbsp\;and BJ&#39\;s will donate 25% of the proceeds to us!<br />\n<br />\nOctober is Domestic Violence Awareness Month\, and on behalf of Safehouse Progressive Alliance for Nonviolence (SPAN)\, We are pleased to invite you to be a part of Dining to End Domestic Violence. This month-long series of fundraising events will support services for domestic violence survivors and their children in Boulder and Broomfield Counties.<br />\n<br />\nSince 1979 SPAN has been providing healing\, hope and opportunity to adults and children who are impacted by abuse. Our Domestic Violence Awareness Month events are a critical component to raising the funds needed to provide safe\, confidential emergency shelter\, counseling\, legal advocacy and more to hundreds of people each year. These services are changing lives\, even saving lives right here in our own community!<br />\nAll proceeds support the Safehouse Progressive Alliance for Nonviolence.<br />\n
LOCATION:1125 Pearl St. Boulder\, Colorado
UID:e.641.3075
SEQUENCE:3
DTSTAMP:20260420T021337Z
URL:http://business.broomfieldchamber.com/events/details/bj-s-pizza-grill-dining-to-end-domestic-violence-10-26-2011-3075
END:VEVENT

END:VCALENDAR
