BEGIN:VCALENDAR
VERSION:2.0
PRODID:-//ChamberMaster//Event Calendar 2.0//EN
METHOD:PUBLISH
X-PUBLISHED-TTL:P3D
REFRESH-INTERVAL:P3D
CALSCALE:GREGORIAN
BEGIN:VEVENT
DTSTART:20101126T130000Z
DTEND:20101126T230000Z
X-MICROSOFT-CDO-ALLDAYEVENT:FALSE
SUMMARY:Black Friday Mall Shutle
DESCRIPTION:Shuttle to Flatirons Mall - Black Friday Mall Opening. The Stratford Shuttle will run every two hours. Park in our climate controlled garage. Complimentary gift wrapping and holiday refreshments.
X-ALT-DESC;FMTTYPE=text/html:Shuttle to Flatirons Mall - Black Friday Mall Opening. The Stratford Shuttle will run every two hours. Park in our climate controlled garage. Complimentary gift wrapping and holiday refreshments.
LOCATION:Stratford at Flatirons. 400 Summit Blvd\, Broomfield 80021
UID:e.641.1249
SEQUENCE:3
DTSTAMP:20260420T185647Z
URL:http://business.broomfieldchamber.com/events/details/black-friday-mall-shutle-11-26-2010-1249
END:VEVENT

END:VCALENDAR
