BEGIN:VCALENDAR
VERSION:2.0
PRODID:-//ChamberMaster//Event Calendar 2.0//EN
METHOD:PUBLISH
X-PUBLISHED-TTL:P3D
REFRESH-INTERVAL:P3D
CALSCALE:GREGORIAN
BEGIN:VEVENT
DTSTART:20110423T020000Z
DTEND:20110424T020000Z
X-MICROSOFT-CDO-ALLDAYEVENT:FALSE
SUMMARY:BNC Dance Presents Rarities and Oddities
DESCRIPTION:A no holds barred show filled with crazy ideas that might otherwise never see the light of day. New possibilities will arise for both the artists and the audience as they enter into an experience where supposition has not only been removed\, but replaced with anticipation. Check your inhibitions at the door...because we sure will.
X-ALT-DESC;FMTTYPE=text/html:A no holds barred show filled with crazy ideas that might otherwise never see the light of day. New possibilities will arise for both the artists and the audience as they enter into an experience where supposition has not only been removed\, but replaced with anticipation. Check your inhibitions at the door...because we sure will.
LOCATION:1001 W. 84th Avenue\, Denver\, CO 80260
UID:e.641.1386
SEQUENCE:3
DTSTAMP:20260420T093425Z
URL:http://business.broomfieldchamber.com/events/details/bnc-dance-presents-rarities-and-oddities-04-22-2011-1386
END:VEVENT

END:VCALENDAR
