BEGIN:VCALENDAR
VERSION:2.0
PRODID:-//ChamberMaster//Event Calendar 2.0//EN
METHOD:PUBLISH
X-PUBLISHED-TTL:P3D
REFRESH-INTERVAL:P3D
CALSCALE:GREGORIAN
BEGIN:VEVENT
DTSTART:20111014T170000Z
DTEND:20111014T213000Z
X-MICROSOFT-CDO-ALLDAYEVENT:FALSE
SUMMARY:Bonfills Blood Drive
DESCRIPTION:Armstrong Financial Services\n\nBLOOD DRIVE!\n\n\n\nFriday\, October 14th\, 2011\n\n\n\n11:00 a.m. to 3:30 p.m.\n\n\n\nDonate on the Bonfils Bus at\n\nArmstrong Financial\n\n8778 Wolff Court\n\nin Westminster\n\n\n\nFOR MORE INFORMATION OR TO\n\nSCHEDULE AN APPOINTMENT CONTACT:\n\nSteve Armstrong or Greg Koenig at 303-650-4656\n\nOr at steve@armstrongfs.com\, greg@armstrongfs.com\n\n\n\nGive hope. Give life. Give blood.\n\n\n\nFor general information about blood donor eligibility or to contact Bonfils' Donor Relations department with questions about blood donation\, please call 303/363-2202
X-ALT-DESC;FMTTYPE=text/html:Armstrong Financial Services<br />\nBLOOD DRIVE!<br />\n<br />\nFriday\, October 14th\, 2011<br />\n<br />\n11:00 a.m. to 3:30 p.m.<br />\n<br />\nDonate on the Bonfils Bus at<br />\nArmstrong Financial<br />\n8778 Wolff Court<br />\nin Westminster<br />\n<br />\nFOR MORE INFORMATION OR TO<br />\nSCHEDULE AN APPOINTMENT CONTACT:<br />\nSteve Armstrong or Greg Koenig at 303-650-4656<br />\nOr at steve@armstrongfs.com\, greg@armstrongfs.com<br />\n<br />\nGive hope. Give life. Give blood.<br />\n<br />\nFor general information about blood donor eligibility or to contact Bonfils&rsquo\; Donor Relations department with questions about blood donation\, please call 303/363-2202<br />\n
LOCATION:8778 Wolff Ct Westminster\, Co 80031
UID:e.641.3055
SEQUENCE:3
DTSTAMP:20260420T005744Z
URL:http://business.broomfieldchamber.com/events/details/bonfills-blood-drive-10-14-2011-3055
END:VEVENT

END:VCALENDAR
