BEGIN:VCALENDAR
VERSION:2.0
PRODID:-//ChamberMaster//Event Calendar 2.0//EN
METHOD:PUBLISH
X-PUBLISHED-TTL:P3D
REFRESH-INTERVAL:P3D
CALSCALE:GREGORIAN
BEGIN:VEVENT
DTSTART:20120616T143000Z
DTEND:20120616T183000Z
X-MICROSOFT-CDO-ALLDAYEVENT:FALSE
SUMMARY:Book to Nook - Pixels to Profit
DESCRIPTION:Getting Noticed and Getting Published in the Era of eBooks\n\n\n\nEbooks are expected to outsell print editions 3-to-1 this year.  This digital revolution has permanently changed the rules of publishing and savvy authors who have learned how to play are reaping the rewards. But how do you enter this market? How do you\, as a writer\, prepare and protect your content for current and future formats?\n\n\n\nBrian Schwartz\, The Kindle Expert will be teaching a intensive workshop on how to tap into the largest and fastest-growing digital marketplaces with a scalable and automated plan. When acted upon\, you will reach a wider audience\, uncover new niches\, realize a larger profit\, create a closer connection with your readers\, all while getting increased exposure for your work.\n\n\n\nAs the demand for eBooks accelerates\, the advantage goes to nimble authors\, experts\, and publishers who are able to stand out and rise above the noise.\n\n\n\nA few of the things you will learn:\n\n\n	\n		Why timing has never been better for talent writers.\n	\n		How to uncover reachable niches.\n	\n		What other successful eBook authors are doing that you can emulate.\n	\n		How to automate product fulfillment so you can focus on your business.\n	\n		Create a scalable ongoing marketing structure.\n	\n		Tapping an army of highly motivated commission-only salespeople to promote you.\n\n\n\nBrian will walk attendees through the process   following the path of an actual title from inception to publication!
X-ALT-DESC;FMTTYPE=text/html:<span style="font-size: 14px"><span style="font-family: verdana"><strong>Getting Noticed and Getting Published in the Era of eBooks</strong><br />\n<br />\nEbooks are expected to outsell print editions 3-to-1 this year.&nbsp\; This digital revolution has permanently changed the rules of publishing and savvy authors who have learned how to play are reaping the rewards. But how do you enter this market? How do you\, as a writer\, prepare and protect your content for current and future formats?<br />\n<br />\nBrian Schwartz\, The Kindle Expert will be teaching a intensive workshop on how to tap into the largest and fastest-growing digital marketplaces with a scalable and automated plan. When acted upon\, you will reach a wider audience\, uncover new niches\, realize a larger profit\, create a closer connection with your readers\, all while getting increased exposure for your work.<br />\n<br />\nAs the demand for eBooks accelerates\, the advantage goes to nimble authors\, experts\, and publishers who are able to stand out and rise above the noise.<br />\n<br />\nA few of the things you will learn:</span></span><br />\n<ul>\n	<li>\n		<span style="font-size: 14px"><span style="font-family: verdana">Why timing has never been better for talent writers.</span></span></li>\n	<li>\n		<span style="font-size: 14px"><span style="font-family: verdana">How to uncover reachable niches.</span></span></li>\n	<li>\n		<span style="font-size: 14px"><span style="font-family: verdana">What other successful eBook authors are doing that you can emulate.</span></span></li>\n	<li>\n		<span style="font-size: 14px"><span style="font-family: verdana">How to automate product fulfillment so you can focus on your business.</span></span></li>\n	<li>\n		<span style="font-size: 14px"><span style="font-family: verdana">Create a scalable ongoing marketing structure.</span></span></li>\n	<li>\n		<span style="font-size: 14px"><span style="font-family: verdana">Tapping an army of highly motivated commission-only salespeople to promote you.</span></span></li>\n</ul>\n<br />\n<span style="font-size: 14px"><span style="font-family: verdana">Brian will walk attendees through the process &ndash\; following the path of an actual title from inception to publication!</span></span><br />\n<br />\n
LOCATION:DaVinci Institute 511 E. South Boulder Road Louisville\, CO 80027
UID:e.641.4230
SEQUENCE:3
DTSTAMP:20260419T133209Z
URL:http://business.broomfieldchamber.com/events/details/book-to-nook-pixels-to-profit-06-16-2012-4230
END:VEVENT

END:VCALENDAR
