BEGIN:VCALENDAR
VERSION:2.0
PRODID:-//ChamberMaster//Event Calendar 2.0//EN
METHOD:PUBLISH
X-PUBLISHED-TTL:P3D
REFRESH-INTERVAL:P3D
CALSCALE:GREGORIAN
BEGIN:VEVENT
DTSTART:20110213T230000Z
DTEND:20110214T000000Z
X-MICROSOFT-CDO-ALLDAYEVENT:FALSE
SUMMARY:Boulder Philharmonic Brass Quintet
DESCRIPTION:A Valentine?s Bouquet from the Boulder Philharmonic Brass Quartet
X-ALT-DESC;FMTTYPE=text/html:A Valentine?s Bouquet from the Boulder Philharmonic Brass Quartet
LOCATION:Broomfield Auditorium
UID:e.641.1324
SEQUENCE:3
DTSTAMP:20260420T142157Z
URL:http://business.broomfieldchamber.com/events/details/boulder-philharmonic-brass-quintet-02-13-2011-1324
END:VEVENT

END:VCALENDAR
