BEGIN:VCALENDAR
VERSION:2.0
PRODID:-//ChamberMaster//Event Calendar 2.0//EN
METHOD:PUBLISH
X-PUBLISHED-TTL:P3D
REFRESH-INTERVAL:P3D
CALSCALE:GREGORIAN
BEGIN:VEVENT
DTSTART:20110313T220000Z
DTEND:20110313T230000Z
X-MICROSOFT-CDO-ALLDAYEVENT:FALSE
SUMMARY:Boulder Philharmonic Strings
DESCRIPTION:Spring into Strings with Boulder Philharmonic Strings
X-ALT-DESC;FMTTYPE=text/html:Spring into Strings with Boulder Philharmonic Strings
LOCATION:Broomfield Auditorium
UID:e.641.1325
SEQUENCE:3
DTSTAMP:20260420T110421Z
URL:http://business.broomfieldchamber.com/events/details/boulder-philharmonic-strings-03-13-2011-1325
END:VEVENT

END:VCALENDAR
