BEGIN:VCALENDAR
VERSION:2.0
PRODID:-//ChamberMaster//Event Calendar 2.0//EN
METHOD:PUBLISH
X-PUBLISHED-TTL:P3D
REFRESH-INTERVAL:P3D
CALSCALE:GREGORIAN
BEGIN:VEVENT
DTSTART:20110501T180000Z
DTEND:20110501T210000Z
X-MICROSOFT-CDO-ALLDAYEVENT:FALSE
SUMMARY:Bridal Show at The Event Center at Church Ranch
DESCRIPTION:There will be free wine and cheese tasting\, door prizes\, along with live entertainment by JAKARTA and various music professionals\, creating an exciting environment for a ?May Day? event.
X-ALT-DESC;FMTTYPE=text/html:There will be free wine and cheese tasting\, door prizes\, along with live entertainment by JAKARTA and various music professionals\, creating an exciting environment for a ?May Day? event.  
LOCATION:The Event Center at Church Ranch
UID:e.641.1365
SEQUENCE:3
DTSTAMP:20260420T093843Z
URL:http://business.broomfieldchamber.com/events/details/bridal-show-at-the-event-center-at-church-ranch-05-01-2011-1365
END:VEVENT

END:VCALENDAR
