BEGIN:VCALENDAR
VERSION:2.0
PRODID:-//ChamberMaster//Event Calendar 2.0//EN
METHOD:PUBLISH
X-PUBLISHED-TTL:P3D
REFRESH-INTERVAL:P3D
CALSCALE:GREGORIAN
BEGIN:VEVENT
DTSTART:20110513T150000Z
DTEND:20110513T170000Z
X-MICROSOFT-CDO-ALLDAYEVENT:FALSE
SUMMARY:Broomfield Academy Field Day
DESCRIPTION:Students at Broomfield Academy\, Academic Preschool through 6th grade\, will have fun at field day today!  9-11 am.
X-ALT-DESC;FMTTYPE=text/html:Students at Broomfield Academy\, Academic Preschool through 6th grade\, will have fun at field day today!  9-11 am.
LOCATION:Broomfield Academy
UID:e.641.1333
SEQUENCE:3
DTSTAMP:20260420T075925Z
URL:http://business.broomfieldchamber.com/events/details/broomfield-academy-field-day-05-13-2011-1333
END:VEVENT

END:VCALENDAR
