BEGIN:VCALENDAR
VERSION:2.0
PRODID:-//ChamberMaster//Event Calendar 2.0//EN
METHOD:PUBLISH
X-PUBLISHED-TTL:P3D
REFRESH-INTERVAL:P3D
CALSCALE:GREGORIAN
BEGIN:VEVENT
DTSTART:20110225T013000Z
DTEND:20110225T033000Z
X-MICROSOFT-CDO-ALLDAYEVENT:FALSE
SUMMARY:Broomfield Academy: "How to Help Your Child Be a Better Thinker and Learner"
DESCRIPTION:As part of the Broomfield Academy Distinguished Speaker Series\,\n\nNathan Levy will present\n\n"How to Help Your Child Be a Better Thinker and Learner"\n\n\n\nThis FREE event is on February 24\, 2011 from 6:30-8:30 pm\n\nat the Broomfield Auditorium\n\n3 Community Park Road\, Broomfield\, CO 80020\n\n\n\nRSVP required at http://www.broomfieldacademy.com. Seating is limited. There is no charge to attend.
X-ALT-DESC;FMTTYPE=text/html:<strong><span style="font-size: 16px">As part of the Broomfield Academy Distinguished Speaker Series\,<br />\nNathan Levy will present<br />\n<span style="color: #ff0000">&quot\;<em>How to Help Your Child Be a Better Thinker and Learner&quot\;</em></span><br />\n<br />\nThis FREE event is on February 24\, 2011 from 6:30-8:30 pm<br />\nat the Broomfield Auditorium<br />\n3 Community Park Road\, Broomfield\, CO 80020<br />\n<br />\nRSVP required at http://www.broomfieldacademy.com. Seating is limited. There is no charge to attend</span>.</strong><br />\n<br />\n
LOCATION:Broomfield Auditorium
UID:e.641.1326
SEQUENCE:3
DTSTAMP:20260420T125801Z
URL:http://business.broomfieldchamber.com/events/details/broomfield-academy-how-to-help-your-child-be-a-better-thinker-and-learner-02-24-2011-1326
END:VEVENT

END:VCALENDAR
