BEGIN:VCALENDAR
VERSION:2.0
PRODID:-//ChamberMaster//Event Calendar 2.0//EN
METHOD:PUBLISH
X-PUBLISHED-TTL:P3D
REFRESH-INTERVAL:P3D
CALSCALE:GREGORIAN
BEGIN:VEVENT
DTSTART;VALUE=DATE:20110415
DTEND;VALUE=DATE:20110416
TRANSP:TRANSPARENT
X-MICROSOFT-CDO-ALLDAYEVENT:TRUE
SUMMARY:Broomfield Academy Professional Development Day
DESCRIPTION:Today is a professional development day at Broomfield Academy.  There will be no school for students today.
X-ALT-DESC;FMTTYPE=text/html:Today is a professional development day at Broomfield Academy.  There will be no school for students today.
LOCATION:
UID:e.641.1332
SEQUENCE:3
DTSTAMP:20260420T093151Z
URL:http://business.broomfieldchamber.com/events/details/broomfield-academy-professional-development-day-04-15-2011-1332
END:VEVENT

END:VCALENDAR
