BEGIN:VCALENDAR
VERSION:2.0
PRODID:-//ChamberMaster//Event Calendar 2.0//EN
METHOD:PUBLISH
X-PUBLISHED-TTL:P3D
REFRESH-INTERVAL:P3D
CALSCALE:GREGORIAN
BEGIN:VEVENT
DTSTART;VALUE=DATE:20110311
DTEND;VALUE=DATE:20110312
TRANSP:TRANSPARENT
X-MICROSOFT-CDO-ALLDAYEVENT:TRUE
SUMMARY:Broomfield Academy Science Fair Presentations
DESCRIPTION:Students at Broomfield Academy\, Junior Kindergarten through 6th grade\, will present their science fair presentations in the Den today.  Come and see what cool science is a'happening at Broomfield Academy.
X-ALT-DESC;FMTTYPE=text/html:Students at Broomfield Academy\, Junior Kindergarten through 6th grade\, will present their science fair presentations in the Den today.  Come and see what cool science is a'happening at Broomfield Academy.
LOCATION:Broomfield Academy 7203 W 120th Ave Broomfield\, CO 80020
UID:e.641.1329
SEQUENCE:3
DTSTAMP:20260420T110541Z
URL:http://business.broomfieldchamber.com/events/details/broomfield-academy-science-fair-presentations-03-11-2011-1329
END:VEVENT

END:VCALENDAR
