BEGIN:VCALENDAR
VERSION:2.0
PRODID:-//ChamberMaster//Event Calendar 2.0//EN
METHOD:PUBLISH
X-PUBLISHED-TTL:P3D
REFRESH-INTERVAL:P3D
CALSCALE:GREGORIAN
BEGIN:VEVENT
DTSTART;VALUE=DATE:20110527
DTEND;VALUE=DATE:20110528
TRANSP:TRANSPARENT
X-MICROSOFT-CDO-ALLDAYEVENT:TRUE
SUMMARY:Broomfield Academy Talent Show
DESCRIPTION:Students at Broomfield Academy\, Academic Preschool through 6th grade\, will have fun at their end of school talent show today! Today is the last day of school. The summer enrichment camp\, summer Academic Preschool\, summer Kindergarten Prep and summer Elementary Prep programs start soon!
X-ALT-DESC;FMTTYPE=text/html:Students at Broomfield Academy\, Academic Preschool through 6th grade\, will have fun at their end of school talent show today! Today is the last day of school. The summer enrichment camp\, summer Academic Preschool\, summer Kindergarten Prep and summer Elementary Prep programs start soon!	
LOCATION:Broomfield Academy
UID:e.641.1334
SEQUENCE:3
DTSTAMP:20260420T080340Z
URL:http://business.broomfieldchamber.com/events/details/broomfield-academy-talent-show-05-27-2011-1334
END:VEVENT

END:VCALENDAR
