BEGIN:VCALENDAR
VERSION:2.0
PRODID:-//ChamberMaster//Event Calendar 2.0//EN
METHOD:PUBLISH
X-PUBLISHED-TTL:P3D
REFRESH-INTERVAL:P3D
CALSCALE:GREGORIAN
BEGIN:VEVENT
DTSTART;VALUE=DATE:20110214
DTEND;VALUE=DATE:20110215
TRANSP:TRANSPARENT
X-MICROSOFT-CDO-ALLDAYEVENT:TRUE
SUMMARY:Broomfield Academy Valentines Day Parties
DESCRIPTION:Broomfield Academy Valentines Day Parties	\n\nStudents at Broomfield Academy\, Junior Kindergarten through 6th grade\, will have fun at their Valentines Day parties in their classrooms today!
X-ALT-DESC;FMTTYPE=text/html:Broomfield Academy Valentines Day Parties	\n<br>Students at Broomfield Academy\, Junior Kindergarten through 6th grade\, will have fun at their Valentines Day parties in their classrooms today!\n<br>
LOCATION:Broomfield Academy 7203 W 120th Ave Broomfield\, CO 80020
UID:e.641.1328
SEQUENCE:3
DTSTAMP:20260420T130109Z
URL:http://business.broomfieldchamber.com/events/details/broomfield-academy-valentines-day-parties-02-14-2011-1328
END:VEVENT

END:VCALENDAR
