BEGIN:VCALENDAR
VERSION:2.0
PRODID:-//ChamberMaster//Event Calendar 2.0//EN
METHOD:PUBLISH
X-PUBLISHED-TTL:P3D
REFRESH-INTERVAL:P3D
CALSCALE:GREGORIAN
BEGIN:VEVENT
DTSTART;VALUE=DATE:20110905
DTEND;VALUE=DATE:20110906
TRANSP:TRANSPARENT
X-MICROSOFT-CDO-ALLDAYEVENT:TRUE
SUMMARY:Broomfield Chamber closed in observance of Labor Day
DESCRIPTION:
X-ALT-DESC;FMTTYPE=text/html:
LOCATION:
UID:e.641.1277
SEQUENCE:3
DTSTAMP:20260420T022828Z
URL:http://business.broomfieldchamber.com/events/details/broomfield-chamber-closed-in-observance-of-labor-day-09-05-2011-1277
END:VEVENT

END:VCALENDAR
