BEGIN:VCALENDAR
VERSION:2.0
PRODID:-//ChamberMaster//Event Calendar 2.0//EN
METHOD:PUBLISH
X-PUBLISHED-TTL:P3D
REFRESH-INTERVAL:P3D
CALSCALE:GREGORIAN
BEGIN:VEVENT
DTSTART;VALUE=DATE:20110530
DTEND;VALUE=DATE:20110531
TRANSP:TRANSPARENT
X-MICROSOFT-CDO-ALLDAYEVENT:TRUE
SUMMARY:Broomfield Chamber closed in observance of Memorial Day
DESCRIPTION:
X-ALT-DESC;FMTTYPE=text/html:
LOCATION:
UID:e.641.1275
SEQUENCE:3
DTSTAMP:20260420T080837Z
URL:http://business.broomfieldchamber.com/events/details/broomfield-chamber-closed-in-observance-of-memorial-day-05-30-2011-1275
END:VEVENT

END:VCALENDAR
