BEGIN:VCALENDAR
VERSION:2.0
PRODID:-//ChamberMaster//Event Calendar 2.0//EN
METHOD:PUBLISH
X-PUBLISHED-TTL:P3D
REFRESH-INTERVAL:P3D
CALSCALE:GREGORIAN
BEGIN:VEVENT
DTSTART;VALUE=DATE:20111111
DTEND;VALUE=DATE:20111112
TRANSP:TRANSPARENT
X-MICROSOFT-CDO-ALLDAYEVENT:TRUE
SUMMARY:Broomfield Chamber closed in observance of Veterans' Day
DESCRIPTION:
X-ALT-DESC;FMTTYPE=text/html:
LOCATION:
UID:e.641.1279
SEQUENCE:3
DTSTAMP:20260419T235714Z
URL:http://business.broomfieldchamber.com/events/details/broomfield-chamber-closed-in-observance-of-veterans-day-11-11-2011-1279
END:VEVENT

END:VCALENDAR
