BEGIN:VCALENDAR
VERSION:2.0
PRODID:-//ChamberMaster//Event Calendar 2.0//EN
METHOD:PUBLISH
X-PUBLISHED-TTL:P3D
REFRESH-INTERVAL:P3D
CALSCALE:GREGORIAN
BEGIN:VEVENT
DTSTART:20120518T143000Z
DTEND:20120518T163000Z
X-MICROSOFT-CDO-ALLDAYEVENT:FALSE
SUMMARY:Broomfield Chamber Member Orientation
DESCRIPTION:Join us for our quarterly \n\n	Membership Orientation\n\n	 \n\n	This is a great opportunity to learn about all of the benefits and services provided by the Broomfield Chamber of Commerce.\n\n	\n\n	You DO NOT need to be a new member to attend\, all members are welcome.\n\n	 \n\n	Put the power of the Broomfield Chamber to work for you:\n\n	Learn how to Increase Revenue\, Make Contacts\, Grow Your Business and Save Money.\n\n	\n\n	This is also a great way to meet fellow Chamber members!\n\n	 \n\n	A light breakfast will be served.\n\n	 \n\n	RSVP REQUIRED\n\n	Please email Lisa by May 16th to register at lisa.scott@broomfieldchamber.com
X-ALT-DESC;FMTTYPE=text/html:<p align="left" style="text-align: left\; line-height: normal\; font-style: normal\; margin-top: 0pt\; font-family: times-new-roman\; margin-bottom: 0pt\; color: black\; font-weight: normal">\n	<span style="font-family: calibri\, helvetica\, arial\, sans-serif\; color: #004db4\; font-size: 20pt"><b>Join us for our quarterly </b></span></p>\n<p align="left" style="text-align: left\; line-height: normal\; font-style: normal\; margin-top: 0pt\; font-family: times-new-roman\; margin-bottom: 0pt\; color: black\; font-weight: normal">\n	<span style="font-family: calibri\, helvetica\, arial\, sans-serif\; color: #004db4\; font-size: 20pt"><b>Membership Orientation</b></span></p>\n<p align="left" style="text-align: left\; line-height: normal\; font-style: normal\; margin-top: 0pt\; font-family: times-new-roman\; margin-bottom: 0pt\; color: black\; font-weight: normal">\n	&nbsp\;</p>\n<p align="left" style="text-align: left\; line-height: normal\; font-style: normal\; margin-top: 0pt\; font-family: times-new-roman\; margin-bottom: 0pt\; color: black\; font-weight: normal">\n	<span style="font-family: calibri\, helvetica\, arial\, sans-serif\; font-size: 12pt">This is a great opportunity to learn about all of the benefits and services provided by the Broomfield Chamber of Commerce.<br />\n	<br />\n	<strong>You DO NOT need to be&nbsp\;a new member to attend\, all members are welcome.</strong></span><br />\n	&nbsp\;</p>\n<p align="left" style="text-align: left\; line-height: normal\; font-style: normal\; margin-top: 0pt\; font-family: times-new-roman\; margin-bottom: 0pt\; color: black\; font-weight: normal">\n	<span style="font-family: calibri\, helvetica\, arial\, sans-serif\; font-size: 12pt">Put the power of the Broomfield Chamber to work for you:<br />\n	<strong>Learn how to Increase Revenue\, Make Contacts\, Grow Your Business and Save Money.</strong><br />\n	<br />\n	This is also a great way to meet fellow Chamber members!</span></p>\n<p align="left" style="text-align: left\; line-height: normal\; font-style: normal\; margin-top: 0pt\; font-family: times-new-roman\; margin-bottom: 0pt\; color: black\; font-weight: normal">\n	&nbsp\;</p>\n<p align="left" style="text-align: left\; line-height: normal\; font-style: normal\; margin-top: 0pt\; font-family: times-new-roman\; margin-bottom: 0pt\; color: black\; font-weight: normal">\n	<span style="font-family: calibri\, helvetica\, arial\, sans-serif\; font-size: 12pt">A light breakfast will be served.</span></p>\n<p align="left" style="text-align: left\; line-height: normal\; font-style: normal\; margin-top: 0pt\; font-family: times-new-roman\; margin-bottom: 0pt\; color: black\; font-weight: normal">\n	&nbsp\;</p>\n<p align="left" style="text-align: left\; line-height: normal\; font-style: normal\; margin-top: 0pt\; font-family: times-new-roman\; margin-bottom: 0pt\; color: black\; font-weight: normal">\n	<span style="font-family: calibri\, helvetica\, arial\, sans-serif\; font-size: 14pt"><strong>RSVP REQUIRED</strong></span></p>\n<p align="left" style="text-align: left\; line-height: normal\; font-style: normal\; margin-top: 0pt\; font-family: times-new-roman\; margin-bottom: 0pt\; color: black\; font-weight: normal">\n	<span style="font-family: calibri\, helvetica\, arial\, sans-serif\; font-size: 12pt">Please email&nbsp\;Lisa by May 16th to register at </span><span style="font-family: calibri\, helvetica\, arial\, sans-serif\; font-size: 12pt"><span style="font-family: calibri\, helvetica\, arial\, sans-serif\; font-size: 12pt"><a href="mailto:lisa.scott@broomfieldchamber.com?" linktype="2" shape="rect" style="color: #0000ff\; font-weight: bold\; text-decoration: underline" target="_blank" title="mailto:lisa.scott@broomfieldchamber.com?">lisa.scott@broomfieldchamber.com</a>&nbsp\;</span></span><br />\n	<br />\n	&nbsp\;</p>\n
LOCATION:TenWest at Westmoor Technology Park /5 Star Conference Center 10155 Westmoor Dr. Suite 105 Westminster\, CO 80021
UID:e.641.4168
SEQUENCE:3
DTSTAMP:20260419T144758Z
URL:http://business.broomfieldchamber.com/events/details/broomfield-chamber-member-orientation-05-18-2012-4168
END:VEVENT

END:VCALENDAR
