BEGIN:VCALENDAR
VERSION:2.0
PRODID:-//ChamberMaster//Event Calendar 2.0//EN
METHOD:PUBLISH
X-PUBLISHED-TTL:P3D
REFRESH-INTERVAL:P3D
CALSCALE:GREGORIAN
BEGIN:VEVENT
DTSTART:20110303T020000Z
DTEND:20110303T040000Z
X-MICROSOFT-CDO-ALLDAYEVENT:FALSE
SUMMARY:Broomfield Cultural Affairs Presents Central City Opera-Eureka Street
DESCRIPTION:Take a walk down Eureka Street and meet characters from the world of traditional opera! This program is offered as part of the Culture-Feast free winter concert series.
X-ALT-DESC;FMTTYPE=text/html:Take a walk down Eureka Street and meet characters from the world of traditional opera! This program is offered as part of the Culture-Feast free winter concert series. 
LOCATION:Broomfield Auditorium
UID:e.641.1321
SEQUENCE:3
DTSTAMP:20260420T111212Z
URL:http://business.broomfieldchamber.com/events/details/broomfield-cultural-affairs-presents-central-city-opera-eureka-street-03-02-2011-1321
END:VEVENT

END:VCALENDAR
