BEGIN:VCALENDAR
VERSION:2.0
PRODID:-//ChamberMaster//Event Calendar 2.0//EN
METHOD:PUBLISH
X-PUBLISHED-TTL:P3D
REFRESH-INTERVAL:P3D
CALSCALE:GREGORIAN
BEGIN:VEVENT
DTSTART;VALUE=DATE:20070915
DTEND;VALUE=DATE:20070916
TRANSP:TRANSPARENT
X-MICROSOFT-CDO-ALLDAYEVENT:TRUE
SUMMARY:Broomfield Days Trade Fair 2007
DESCRIPTION:
X-ALT-DESC;FMTTYPE=text/html:
LOCATION:Midway Park
UID:e.641.371
SEQUENCE:3
DTSTAMP:20260423T062820Z
URL:http://business.broomfieldchamber.com/events/details/broomfield-days-trade-fair-2007-09-15-2007-371
END:VEVENT

END:VCALENDAR
