BEGIN:VCALENDAR
VERSION:2.0
PRODID:-//ChamberMaster//Event Calendar 2.0//EN
METHOD:PUBLISH
X-PUBLISHED-TTL:P3D
REFRESH-INTERVAL:P3D
CALSCALE:GREGORIAN
BEGIN:VEVENT
DTSTART;VALUE=DATE:20080920
DTEND;VALUE=DATE:20080921
TRANSP:TRANSPARENT
X-MICROSOFT-CDO-ALLDAYEVENT:TRUE
SUMMARY:Broomfield Days Trade Fair 2008
DESCRIPTION:
X-ALT-DESC;FMTTYPE=text/html:
LOCATION:North Midway Park
UID:e.641.412
SEQUENCE:3
DTSTAMP:20260422T115639Z
URL:http://business.broomfieldchamber.com/events/details/broomfield-days-trade-fair-2008-09-20-2008-412
END:VEVENT

END:VCALENDAR
