BEGIN:VCALENDAR
VERSION:2.0
PRODID:-//ChamberMaster//Event Calendar 2.0//EN
METHOD:PUBLISH
X-PUBLISHED-TTL:P3D
REFRESH-INTERVAL:P3D
CALSCALE:GREGORIAN
BEGIN:VEVENT
DTSTART;VALUE=DATE:20120621
DTEND;VALUE=DATE:20120622
TRANSP:TRANSPARENT
X-MICROSOFT-CDO-ALLDAYEVENT:TRUE
SUMMARY:Broomfield FISH Benefit Day at FASTSIGNS Broomfield
DESCRIPTION:On Thursday\, June 21st FASTSIGNS Broomfield will donate 30% of sales to the Broomfield FISH Foodbank.\n\n\n\nPlease join us for "signs for a good cause."
X-ALT-DESC;FMTTYPE=text/html:<span style="font-size: 16px"><span style="font-family: verdana">On Thursday\, June 21st FASTSIGNS Broomfield will donate 30% of sales to the Broomfield FISH Foodbank.<br />\n<br />\nPlease join us for &quot\;signs for a good cause.&quot\;</span></span>
LOCATION:FASTSIGNS Broomfield 799 US Hwy 287 Ste B Broomfield\, CO 80020
UID:e.641.4291
SEQUENCE:3
DTSTAMP:20260419T133332Z
URL:http://business.broomfieldchamber.com/events/details/broomfield-fish-benefit-day-at-fastsigns-broomfield-06-21-2012-4291
END:VEVENT

END:VCALENDAR
