BEGIN:VCALENDAR
VERSION:2.0
PRODID:-//ChamberMaster//Event Calendar 2.0//EN
METHOD:PUBLISH
X-PUBLISHED-TTL:P3D
REFRESH-INTERVAL:P3D
CALSCALE:GREGORIAN
BEGIN:VEVENT
DTSTART:20110410T150000Z
DTEND:20110410T180000Z
X-MICROSOFT-CDO-ALLDAYEVENT:FALSE
SUMMARY:Broomfield Rotary Frank Shorter Race4Kids' Health
DESCRIPTION:Second annual 5K Broomfield Rotary Frank Shorter Race4Kids' Health at Broomfield County Commons Park\n\n\n\n5K BolderBoulder Qualifier\, chip timing by Hallucination Sports\n\n\n\n1K Alex's Walk/Run\n\n\n\nDiaper Dash for kids 2 and under\n\n\n\nApplebee's Buzz for kids 3-5\n\n\n\nVendor space available
X-ALT-DESC;FMTTYPE=text/html:<span style="font-size: 16px"><strong>Second annual 5K Broomfield Rotary Frank Shorter Race4Kids&#39\; Health at Broomfield County Commons Park<br />\n<br />\n<span style="font-size: 14px">5K BolderBoulder Qualifier\, chip timing by Hallucination Sports<br />\n<br />\n1K Alex&#39\;s Walk/Run<br />\n<br />\nDiaper Dash for kids 2 and under<br />\n<br />\nApplebee&#39\;s Buzz for kids 3-5<br />\n<br />\nVendor space available</span></strong></span>
LOCATION:Broomfield County Commons Park 13200 Sheridan Blvd. Broomfield\, CO 80020
UID:e.641.1312
SEQUENCE:3
DTSTAMP:20260420T093912Z
URL:http://business.broomfieldchamber.com/events/details/broomfield-rotary-frank-shorter-race4kids-health-04-10-2011-1312
END:VEVENT

END:VCALENDAR
