BEGIN:VCALENDAR
VERSION:2.0
PRODID:-//ChamberMaster//Event Calendar 2.0//EN
METHOD:PUBLISH
X-PUBLISHED-TTL:P3D
REFRESH-INTERVAL:P3D
CALSCALE:GREGORIAN
BEGIN:VEVENT
DTSTART:20111004T220000Z
DTEND:20111005T010000Z
X-MICROSOFT-CDO-ALLDAYEVENT:FALSE
SUMMARY:BSI Career Fair October 4
DESCRIPTION:BSI is hosting a Career Fair on October 4 at Noah's Events.  There are many positions available featuring a need for Admissions Counselors.  You can apply in advance from our Career Fair information page:  http://bsihires.com/newsletter/career-fair-email.  Looking forward to seeing you there!
X-ALT-DESC;FMTTYPE=text/html:BSI is hosting a Career Fair on October 4 at Noah&#39\;s Events.&nbsp\; There are many positions available featuring a need for Admissions Counselors.&nbsp\; You can apply in advance from our Career Fair information page:&nbsp\; http://bsihires.com/newsletter/career-fair-email.&nbsp\; Looking forward to seeing you there!
LOCATION:Noah's Events 11885 N. Bradburn Blvd.\, Westminster\, CO 80031
UID:e.641.3058
SEQUENCE:3
DTSTAMP:20260420T005738Z
URL:http://business.broomfieldchamber.com/events/details/bsi-career-fair-october-4-10-04-2011-3058
END:VEVENT

END:VCALENDAR
