BEGIN:VCALENDAR
VERSION:2.0
PRODID:-//ChamberMaster//Event Calendar 2.0//EN
METHOD:PUBLISH
X-PUBLISHED-TTL:P3D
REFRESH-INTERVAL:P3D
CALSCALE:GREGORIAN
BEGIN:VEVENT
DTSTART:20070215T070000Z
DTEND:20070215T070000Z
X-MICROSOFT-CDO-ALLDAYEVENT:FALSE
SUMMARY:Business After Hours 02/07
DESCRIPTION:
X-ALT-DESC;FMTTYPE=text/html:
LOCATION:Butterfly Pavilion
UID:e.641.354
SEQUENCE:3
DTSTAMP:20260423T163306Z
URL:http://business.broomfieldchamber.com/events/details/business-after-hours-02-07-02-15-2007-354
END:VEVENT

END:VCALENDAR
