BEGIN:VCALENDAR
VERSION:2.0
PRODID:-//ChamberMaster//Event Calendar 2.0//EN
METHOD:PUBLISH
X-PUBLISHED-TTL:P3D
REFRESH-INTERVAL:P3D
CALSCALE:GREGORIAN
BEGIN:VEVENT
DTSTART:20090827T060000Z
DTEND:20090827T060000Z
X-MICROSOFT-CDO-ALLDAYEVENT:FALSE
SUMMARY:Business After Hours August\, 2009
DESCRIPTION:
X-ALT-DESC;FMTTYPE=text/html:
LOCATION:Troy Centre
UID:e.641.452
SEQUENCE:3
DTSTAMP:20260421T165811Z
URL:http://business.broomfieldchamber.com/events/details/business-after-hours-august-2009-08-27-2009-452
END:VEVENT

END:VCALENDAR
