BEGIN:VCALENDAR
VERSION:2.0
PRODID:-//ChamberMaster//Event Calendar 2.0//EN
METHOD:PUBLISH
X-PUBLISHED-TTL:P3D
REFRESH-INTERVAL:P3D
CALSCALE:GREGORIAN
BEGIN:VEVENT
DTSTART:20091210T070000Z
DTEND:20091210T070000Z
X-MICROSOFT-CDO-ALLDAYEVENT:FALSE
SUMMARY:Business After Hours December 2009
DESCRIPTION:
X-ALT-DESC;FMTTYPE=text/html:
LOCATION:Catania
UID:e.641.459
SEQUENCE:3
DTSTAMP:20260421T105944Z
URL:http://business.broomfieldchamber.com/events/details/business-after-hours-december-2009-12-10-2009-459
END:VEVENT

END:VCALENDAR
