BEGIN:VCALENDAR
VERSION:2.0
PRODID:-//ChamberMaster//Event Calendar 2.0//EN
METHOD:PUBLISH
X-PUBLISHED-TTL:P3D
REFRESH-INTERVAL:P3D
CALSCALE:GREGORIAN
BEGIN:VEVENT
DTSTART:20100219T000000Z
DTEND:20100219T030000Z
X-MICROSOFT-CDO-ALLDAYEVENT:FALSE
SUMMARY:Business After Hours February 2010
DESCRIPTION:Join us for an enjoyable evening of networking to the "Bogart and Big Band" era theme.  In addition to delicious food\, beer and wine\, The Stratford at FlatIrons will also be serving your favorite martini.  There will be a cocktail lounge with music and Bogart movies will be shown in the theatre.  Enjoy live performances by Reville` 3\, and Andrews Sisters Tribute Act! Cost is $10.00 for Chamber members who register by Wednesday\, February 17th.  After February 17th the cost is $15.00. We do not send invoices after the event\, so all registrations must be prepaid or paid at the door. Note:  The February 17th deadline is considered your last opportunity to officially pre-register for all drawings. Cancellation Policy:  Only cancellations received by Noon the day of the event will be refundable! $100 Big Cash Giveaway ContributorsGuild Mortgage - Mary CooperOrion Mortgage\, Inc. - Don & Terri OpekaBecome a BIG CASH sponsor by adding a minimum of $50 to the vault.  Receive publicity on the website\, E-Update and at the monthly drawings.  If you would like information on how to become a Big Cash Sponsor\, phone us at the Chamber\, 303-466-1775.
X-ALT-DESC;FMTTYPE=text/html:<div>Join us for an enjoyable evening of networking to the &quot\;Bogart and Big Band&quot\; era theme.&nbsp\; In addition to delicious food\, beer and wine\, The Stratford at FlatIrons will also be serving your favorite martini.&nbsp\; There will be a cocktail lounge with music and Bogart movies will be shown in the theatre.&nbsp\; Enjoy live performances by Reville` 3\, and Andrews Sisters Tribute Act!</div><div>&nbsp\;</div><div>Cost is $10.00 for Chamber members who register by Wednesday\, February 17th.&nbsp\; After February 17th the cost is $15.00.</div><div>&nbsp\;</div><div>We do not send invoices after the event\, so all registrations must be prepaid or paid at the door.</div><div>&nbsp\;</div><div><em>Note:&nbsp\; The February 17th deadline is considered your last opportunity to officially pre-register for all drawings. </em></div><div><em>Cancellation Policy:&nbsp\; Only cancellations received by Noon the day of the event will be refundable!</em></div><div>&nbsp\;</div><div>$100 Big Cash Giveaway Contributors</div><ul><li>Guild Mortgage - Mary Cooper</li><li>Orion Mortgage\, Inc. - Don &amp\; Terri Opeka</li></ul><div>Become a BIG CASH&nbsp\;sponsor by adding a minimum of $50 to the vault.&nbsp\; Receive publicity on the website\, E-Update and at the monthly drawings.&nbsp\; If you would like information on how to become a Big Cash Sponsor\, phone us at the Chamber\, 303-466-1775.</div>
LOCATION:The Stratford at FlatIrons\, 400 Summit Blvd.\, Broomfield\, CO 80021
UID:e.641.466
SEQUENCE:3
DTSTAMP:20260421T072332Z
URL:http://business.broomfieldchamber.com/events/details/business-after-hours-february-2010-02-18-2010-466
END:VEVENT

END:VCALENDAR
