BEGIN:VCALENDAR
VERSION:2.0
PRODID:-//ChamberMaster//Event Calendar 2.0//EN
METHOD:PUBLISH
X-PUBLISHED-TTL:P3D
REFRESH-INTERVAL:P3D
CALSCALE:GREGORIAN
BEGIN:VEVENT
DTSTART:20081120T070000Z
DTEND:20081120T070000Z
X-MICROSOFT-CDO-ALLDAYEVENT:FALSE
SUMMARY:Business After Hours November 2008
DESCRIPTION:
X-ALT-DESC;FMTTYPE=text/html:
LOCATION:Summit Bank & Trust
UID:e.641.424
SEQUENCE:3
DTSTAMP:20260422T101435Z
URL:http://business.broomfieldchamber.com/events/details/business-after-hours-november-2008-11-20-2008-424
END:VEVENT

END:VCALENDAR
