BEGIN:VCALENDAR
VERSION:2.0
PRODID:-//ChamberMaster//Event Calendar 2.0//EN
METHOD:PUBLISH
X-PUBLISHED-TTL:P3D
REFRESH-INTERVAL:P3D
CALSCALE:GREGORIAN
BEGIN:VEVENT
DTSTART:20080918T060000Z
DTEND:20080918T060000Z
X-MICROSOFT-CDO-ALLDAYEVENT:FALSE
SUMMARY:Business After Hours September\, 2008
DESCRIPTION:
X-ALT-DESC;FMTTYPE=text/html:
LOCATION:Imagine!
UID:e.641.421
SEQUENCE:3
DTSTAMP:20260422T115549Z
URL:http://business.broomfieldchamber.com/events/details/business-after-hours-september-2008-09-18-2008-421
END:VEVENT

END:VCALENDAR
