BEGIN:VCALENDAR
VERSION:2.0
PRODID:-//ChamberMaster//Event Calendar 2.0//EN
METHOD:PUBLISH
X-PUBLISHED-TTL:P3D
REFRESH-INTERVAL:P3D
CALSCALE:GREGORIAN
BEGIN:VEVENT
DTSTART:20090910T060000Z
DTEND:20090910T060000Z
X-MICROSOFT-CDO-ALLDAYEVENT:FALSE
SUMMARY:Business After Hours September 2009
DESCRIPTION:
X-ALT-DESC;FMTTYPE=text/html:
LOCATION:Sill-TerHar Motors
UID:e.641.453
SEQUENCE:3
DTSTAMP:20260421T170950Z
URL:http://business.broomfieldchamber.com/events/details/business-after-hours-september-2009-09-10-2009-453
END:VEVENT

END:VCALENDAR
