BEGIN:VCALENDAR
VERSION:2.0
PRODID:-//ChamberMaster//Event Calendar 2.0//EN
METHOD:PUBLISH
X-PUBLISHED-TTL:P3D
REFRESH-INTERVAL:P3D
CALSCALE:GREGORIAN
BEGIN:VEVENT
DTSTART:20100420T003000Z
DTEND:20100420T023000Z
X-MICROSOFT-CDO-ALLDAYEVENT:FALSE
SUMMARY:Business & Social Networking @ Rock Bottom Brewery
DESCRIPTION:Social event at Rock Bottom Brewery. Come and make a few new friends!
X-ALT-DESC;FMTTYPE=text/html:Social event at Rock Bottom Brewery. Come and make a few new friends!
LOCATION:Rock Bottom Brewery in Westminster CO
UID:e.641.599
SEQUENCE:3
DTSTAMP:20260421T042551Z
URL:http://business.broomfieldchamber.com/events/details/business-social-networking-rock-bottom-brewery-04-19-2010-599
END:VEVENT

END:VCALENDAR
