BEGIN:VCALENDAR
VERSION:2.0
PRODID:-//ChamberMaster//Event Calendar 2.0//EN
METHOD:PUBLISH
X-PUBLISHED-TTL:P3D
REFRESH-INTERVAL:P3D
CALSCALE:GREGORIAN
BEGIN:VEVENT
DTSTART:20100402T143000Z
DTEND:20100402T160000Z
X-MICROSOFT-CDO-ALLDAYEVENT:FALSE
SUMMARY:Caffeine & Cash Flow
DESCRIPTION:
X-ALT-DESC;FMTTYPE=text/html:
LOCATION:Broomfield Chamber of Commerce2095 W. 6th AvenueTroy Centre Conference Room
UID:e.641.470
SEQUENCE:3
DTSTAMP:20260421T040558Z
URL:http://business.broomfieldchamber.com/events/details/caffeine-cash-flow-04-02-2010-470
END:VEVENT

END:VCALENDAR
