BEGIN:VCALENDAR
VERSION:2.0
PRODID:-//ChamberMaster//Event Calendar 2.0//EN
METHOD:PUBLISH
X-PUBLISHED-TTL:P3D
REFRESH-INTERVAL:P3D
CALSCALE:GREGORIAN
BEGIN:VEVENT
DTSTART:20100507T143000Z
DTEND:20100507T160000Z
X-MICROSOFT-CDO-ALLDAYEVENT:FALSE
SUMMARY:Caffeine & Cash Flow
DESCRIPTION:Join us the first Friday of each month from 8:30am to 10:00am.  The coffee will be flowing along with ideas on how you can build your business. Facilitated by Jerry Chesser with ActionCoach\, each month will focus on a specific topic with brainstorming and discussions. We will see you May 7th for "How to Make Your Leads and Referrals Bloom!"  Hosted by the Broomfield Chamber in the Troy Centre Conference Room. This program is FREE for Chamber Members Only!
X-ALT-DESC;FMTTYPE=text/html:<div>Join us the first Friday of each month from 8:30am to 10:00am.&nbsp\; The coffee will be flowing along with ideas on how you can build your business.</div><div>&nbsp\;</div><div>Facilitated by Jerry Chesser with ActionCoach\, each month will focus on a specific topic with brainstorming and discussions.</div><div>&nbsp\;</div><div>We will see you May 7th for &quot\;How to Make Your Leads and Referrals Bloom!&quot\;&nbsp\; Hosted by the Broomfield Chamber in the Troy Centre Conference Room.</div><div>&nbsp\;</div><div>This program is FREE for Chamber Members Only!<br />&nbsp\;</div>
LOCATION:Broomfield Chamber of Commerce2095 W. 6th AvenueTroy Centre Conference Room
UID:e.641.471
SEQUENCE:3
DTSTAMP:20260421T022944Z
URL:http://business.broomfieldchamber.com/events/details/caffeine-cash-flow-05-07-2010-471
END:VEVENT

END:VCALENDAR
