BEGIN:VCALENDAR
VERSION:2.0
PRODID:-//ChamberMaster//Event Calendar 2.0//EN
METHOD:PUBLISH
X-PUBLISHED-TTL:P3D
REFRESH-INTERVAL:P3D
CALSCALE:GREGORIAN
BEGIN:VEVENT
DTSTART:20100604T143000Z
DTEND:20100604T160000Z
X-MICROSOFT-CDO-ALLDAYEVENT:FALSE
SUMMARY:Caffeine & Cash Flow
DESCRIPTION:Join us the first Friday of each month from 8:30am to 10:00am.  The coffee will be flowing along with ideas on how you can build your business.\n \nFacilitated by Jerry Chesser with ActionCoach\, each month will focus on a specific topic with brainstorming and discussions.\n \nWe will see you June 4th for "Hot Sales and Marketing Tips!"  Hosted by the Broomfield Chamber in the Troy Centre Conference Room.\n \nThis program is FREE for Chamber Members Only!
X-ALT-DESC;FMTTYPE=text/html:<div>Join us the first Friday of each month from 8:30am to 10:00am.&nbsp\; The coffee will be flowing along with ideas on how you can build your business.<br />&nbsp\;<br />Facilitated by Jerry Chesser with ActionCoach\, each month will focus on a specific topic with brainstorming and discussions.<br />&nbsp\;<br />We will see you June 4th for &quot\;Hot Sales and Marketing Tips!&quot\;&nbsp\;</div><div>&nbsp\;</div><div>Hosted by the Broomfield Chamber in the Troy Centre Conference Room.<br />&nbsp\;<br />This program is FREE for Chamber Members Only!<br />&nbsp\;</div>
LOCATION:Broomfield Chamber of Commerce2095 W. 6th AvenueTroy Centre Conference Room
UID:e.641.472
SEQUENCE:3
DTSTAMP:20260421T022922Z
URL:http://business.broomfieldchamber.com/events/details/caffeine-cash-flow-06-04-2010-472
END:VEVENT

END:VCALENDAR
