BEGIN:VCALENDAR
VERSION:2.0
PRODID:-//ChamberMaster//Event Calendar 2.0//EN
METHOD:PUBLISH
X-PUBLISHED-TTL:P3D
REFRESH-INTERVAL:P3D
CALSCALE:GREGORIAN
BEGIN:VEVENT
DTSTART:20110327T020000Z
DTEND:20110327T100000Z
X-MICROSOFT-CDO-ALLDAYEVENT:FALSE
SUMMARY:Caffeine Music Festival @ 1STBANK Center
DESCRIPTION:16 and over only. Valid ID required for entry.
X-ALT-DESC;FMTTYPE=text/html:16 and over only. Valid ID required for entry.
LOCATION:1STBANK Center
UID:e.641.1401
SEQUENCE:3
DTSTAMP:20260420T111339Z
URL:http://business.broomfieldchamber.com/events/details/caffeine-music-festival-1stbank-center-03-26-2011-1401
END:VEVENT

END:VCALENDAR
