BEGIN:VCALENDAR
VERSION:2.0
PRODID:-//ChamberMaster//Event Calendar 2.0//EN
METHOD:PUBLISH
X-PUBLISHED-TTL:P3D
REFRESH-INTERVAL:P3D
CALSCALE:GREGORIAN
BEGIN:VEVENT
DTSTART:20110724T010000Z
DTEND:20110724T030000Z
X-MICROSOFT-CDO-ALLDAYEVENT:FALSE
SUMMARY:Cancelled---Angus Mohr at Broomfield Auditorium
DESCRIPTION:This concert has been cancelled. We apologize for any inconvenience.
X-ALT-DESC;FMTTYPE=text/html:<p>\n	This concert has been cancelled. We apologize for any inconvenience.</p>\n
LOCATION:Broomfield Auditorium
UID:e.641.1712
SEQUENCE:3
DTSTAMP:20260420T050959Z
URL:http://business.broomfieldchamber.com/events/details/cancelled-angus-mohr-at-broomfield-auditorium-07-23-2011-1712
END:VEVENT

END:VCALENDAR
