BEGIN:VCALENDAR
VERSION:2.0
PRODID:-//ChamberMaster//Event Calendar 2.0//EN
METHOD:PUBLISH
X-PUBLISHED-TTL:P3D
REFRESH-INTERVAL:P3D
CALSCALE:GREGORIAN
BEGIN:VEVENT
DTSTART:20120621T140000Z
DTEND:20120621T213000Z
X-MICROSOFT-CDO-ALLDAYEVENT:FALSE
SUMMARY:Car Care with Alternative View
DESCRIPTION:June 21 from 8am-3:30pm\n\n	\n\n	Headlight Restoration and Windshield Repair while you work.\n\n	\n		Mention this ad and receive an additional $5.00 off/offer expires 6/27/2012 \n	\n		 \n	\n		 \n	Alternative View invites you to ask questions or repair those headlights and windshields# \n\n	Stop by!
X-ALT-DESC;FMTTYPE=text/html:<p class="MsoNormal" style="text-align: center\; line-height: normal\; margin: 0in 0in 0pt">\n	<span style="font-size: 16px"><span style="font-family: verdana"><span style="mso-bidi-font-size: 10#5pt\; mso-fareast-font-family: 'Times New Roman'\; mso-bidi-font-family: Arial">June&nbsp\;21 from 8am-3:30pm</span></span></span></p>\n<p align="center" class="MsoNormal" style="text-align: center\; line-height: normal\; margin: 0in 0in 0pt">\n	<br />\n	<span style="font-size: 16px"><span style="font-family: verdana"><span style="color: #ff0000"><span style="mso-bidi-font-size: 10#5pt\; mso-fareast-font-family: 'Times New Roman'\; mso-bidi-font-family: Arial">Headlight Restoration </span></span><span style="mso-bidi-font-size: 10#5pt\; mso-fareast-font-family: 'Times New Roman'\; mso-bidi-font-family: Arial">and </span><span style="color: #ff0000"><span style="mso-bidi-font-size: 10#5pt\; mso-fareast-font-family: 'Times New Roman'\; mso-bidi-font-family: Arial">Windshield Repair </span></span><span style="mso-bidi-font-size: 10#5pt\; mso-fareast-font-family: 'Times New Roman'\; mso-bidi-font-family: Arial">while you work.</span></span></span></p>\n<div style="text-align: center">\n	<p align="center" class="MsoNormal" style="text-align: center\; line-height: normal\; margin: 0in 0in 0pt">\n		<span style="font-size: 12px"><span style="font-family: verdana"><span style="color: #0000ff"><span style="mso-bidi-font-size: 10#5pt\; mso-fareast-font-family: 'Times New Roman'\; mso-bidi-font-family: Arial">Mention this ad and receive an additional $5.00 off/offer expires 6/27/2012 </span></span></span></span></p>\n	<p class="MsoNormal" style="text-align: center\; line-height: normal\; margin: 0in 0in 0pt">\n		&nbsp\;</p>\n	<p class="MsoNormal" style="text-align: center\; line-height: normal\; margin: 0in 0in 0pt">\n		&nbsp\;</p>\n	<span style="font-size: 18px"><span style="font-family: verdana"><b style="mso-bidi-font-weight: normal"><i style="mso-bidi-font-style: normal"><span style="line-height: 115%\; color: purple\; mso-bidi-font-size: 10#5pt\; mso-fareast-font-family: 'Times New Roman'\; mso-bidi-font-family: Arial\; mso-ansi-language: EN-US\; mso-fareast-language: EN-US\; mso-bidi-language: AR-SA">Alternative View</span></i></b></span></span><span style="font-size: 16px"><span style="font-family: verdana"><span style="line-height: 115%\; color: purple\; mso-bidi-font-size: 10#5pt\; mso-fareast-font-family: 'Times New Roman'\; mso-bidi-font-family: Arial\; mso-ansi-language: EN-US\; mso-fareast-language: EN-US\; mso-bidi-language: AR-SA"> </span><span style="line-height: 115%\; mso-bidi-font-size: 10#5pt\; mso-fareast-font-family: 'Times New Roman'\; mso-bidi-font-family: Arial\; mso-ansi-language: EN-US\; mso-fareast-language: EN-US\; mso-bidi-language: AR-SA"><font color="#000000">invites you to ask questions or repair those headlights and windshields#</font></span><span style="line-height: 115%\; color: purple\; mso-fareast-font-family: 'Times New Roman'\; mso-bidi-font-family: Arial\; mso-ansi-language: EN-US\; mso-fareast-language: EN-US\; mso-bidi-language: AR-SA"> </span><br />\n	<span style="color: #0000ff"><span style="line-height: 115%\; mso-fareast-font-family: 'Times New Roman'\; mso-bidi-font-family: Arial\; mso-ansi-language: EN-US\; mso-fareast-language: EN-US\; mso-bidi-language: AR-SA">Stop by!</span></span></span></span></div>\n<p align="center" class="MsoNormal" style="text-align: center\; line-height: normal\; margin: 0in 0in 0pt">\n	&nbsp\;</p>\n
LOCATION:Ten West 10155 Westmoor Cir Broomfield\, CO 80021
UID:e.641.4293
SEQUENCE:3
DTSTAMP:20260419T144553Z
URL:http://business.broomfieldchamber.com/events/details/car-care-with-alternative-view-06-21-2012-4293
END:VEVENT

END:VCALENDAR
