BEGIN:VCALENDAR
VERSION:2.0
PRODID:-//ChamberMaster//Event Calendar 2.0//EN
METHOD:PUBLISH
X-PUBLISHED-TTL:P3D
REFRESH-INTERVAL:P3D
CALSCALE:GREGORIAN
BEGIN:VEVENT
DTSTART:20120725T140000Z
DTEND:20120725T213000Z
X-MICROSOFT-CDO-ALLDAYEVENT:FALSE
SUMMARY:Car Care with Alternative View's Ladies
DESCRIPTION:Car Care with Alternative View \n\n	\n\n	Come get your Windshield Repaired and your Headlights Restored \n\n	while you work.\n\n	\n\n	Wednesday July 25\, 2012 - 8:00am-3:30pm\n\n	\n\n	Questions? Our ladies will be happy to help you!\n\n	We are an environmentally conscious company. Help us save our environment.\n\n	All materials used are made in the USA.
X-ALT-DESC;FMTTYPE=text/html:<p style="text-align: center">\n	<span style="color: #ff0000"><strong><span style="font-size: 22px">Car Care </span></strong></span><span style="font-size: 14px"><strong>with</strong></span><span style="color: #ff0000"><strong><span style="font-size: 22px"> </span></strong></span><span style="color: #800080"><strong><span style="font-size: 22px">Alternative View </span></strong></span><br />\n	<br />\n	<span style="font-size: 14px">Come get your</span><span style="font-size: 20px"><span style="color: #ff0000"><span style="font-size: 14px"> </span><strong>Windshield Repaired </strong></span><span style="font-size: 14px">and your </span><strong><span style="color: #ff0000">Headlights Restored </span></strong></span><br />\n	<span style="font-size: 14px"><span style="color: #0000cd">while you work</span></span>.<br />\n	<br />\n	<strong><span style="font-size: 18px">Wednesday July 25\, 2012 - 8:00am-3:30pm</span></strong><br />\n	<br />\n	<span style="font-size: 12px">Questions? <span style="color: #800080">Our ladies will be happy to help you!</span><br />\n	<span style="color: #006400">We are an environmentally conscious company. Help us save our environment.</span><br />\n	<span style="color: #800080">All materials used are made in the USA.</span></span><br />\n	&nbsp\;</p>\n
LOCATION:The Views 11800 Ridge Pkwy Broomfield\, CO 80021
UID:e.641.4338
SEQUENCE:3
DTSTAMP:20260419T133205Z
URL:http://business.broomfieldchamber.com/events/details/car-care-with-alternative-view-s-ladies-07-25-2012-4338
END:VEVENT

END:VCALENDAR
