BEGIN:VCALENDAR
VERSION:2.0
PRODID:-//ChamberMaster//Event Calendar 2.0//EN
METHOD:PUBLISH
X-PUBLISHED-TTL:P3D
REFRESH-INTERVAL:P3D
CALSCALE:GREGORIAN
BEGIN:VEVENT
DTSTART:20120226T020000Z
DTEND:20120226T020000Z
X-MICROSOFT-CDO-ALLDAYEVENT:FALSE
SUMMARY:'Carnevale!' Annual Benefit for A Precious Child
DESCRIPTION:We are excited to introduce you to our newest\, and most fun way\, to help make a difference in the life of a child in need.  A Precious Child\, a 501(c)(3) nonprofit organization is having an annual event on Saturday\, February 25th\, from 7- 11 pm\, at the recently opened Season's Bliss Event Center\, located at 665 Flatiron Marketplace Drive in Broomfield. \n\n	The recommended dress for the event is Cocktail Attire & Masks Suggested.\n\n	Join in the revelry and enjoy live music by Queen City Jazz Band\, DJ Ted Chavez\, live entertainers from Illuminated Arts and Entertainment\, decorations by D cor n More\, a live auction\, drinks\, hors d'oeuvres\, mingling and dancing. Tickets are now on sale for $50 per person. To register or to find out more information go to www.apreciouschild.org.  All proceeds from this event will support A Precious Child's programs that provide basic essentials to impoverished children and families in the North Metro area.    \n\n	We would be extremely grateful to have the support from Members of the Broomfield Chamber of Commerce\, in making this year's 'Carnevale!' a huge success\, and raise the necessary funds to provide services for our Colorado children and families in need!\n\n	If you are interested in learning about our Sponsorship Levels\, or you would like to make a Prize Donation\, please contact Taylor Keyes by calling 435.962.0710 or by emailingmailto:taylor@apreciouschild.org.
X-ALT-DESC;FMTTYPE=text/html:<p class="MsoNormal" style="mso-pagination: none\; mso-layout-grid-align: none">\n	&nbsp\;</p>\n<p class="MsoNormal" style="margin-bottom: 12pt\; mso-pagination: none\; mso-layout-grid-align: none">\n	<span style="font-size: 14px"><font class="Apple-style-span" face="Arial"><span style="font-family: arial\; color: #222222\; mso-bidi-font-family: arial">We are excited to introduce you to our newest\, and most fun way\, to help make a difference in the life of a child in need.<span style="mso-spacerun: yes">&nbsp\; </span>A Precious Child\, a 501(c)(3) nonprofit organization is having an annual event on Saturday\, February 25<sup>th</sup>\, from 7- 11 pm\, at the recently opened Season&rsquo\;s Bliss Event Center\, located at 665 Flatiron Marketplace Drive in Broomfield. </span></font></span></p>\n<p class="MsoNormal" style="margin-bottom: 12pt\; mso-pagination: none\; mso-layout-grid-align: none">\n	<span style="font-size: 14px"><font class="Apple-style-span" face="Arial"><span style="font-family: arial\; color: #222222\; mso-bidi-font-family: arial">The recommended dress for the event is Cocktail Attire &amp\; Masks Suggested.</span></font></span></p>\n<p class="MsoNormal" style="margin-bottom: 12pt\; mso-pagination: none\; mso-layout-grid-align: none">\n	<span style="font-size: 14px"><font class="Apple-style-span" face="Arial"><span style="font-family: arial\; color: #222222\; mso-bidi-font-family: arial">Join in the revelry and enjoy live music by Queen City Jazz Band\, DJ Ted Chavez\, live entertainers from Illuminated Arts and Entertainment\, decorations by D&eacute\;cor n More\, a live auction\, drinks\, hors d&rsquo\;oeuvres\, mingling and dancing. Tickets are now on sale for $50 per person. To register or to find out more information go to <a href="http://www.apreciouschild.org/"><span style="color: #0019e4\; text-decoration: none\; text-underline: none">www.apreciouschild.org</span></a>. &nbsp\;All proceeds from this event will support A Precious Child&rsquo\;s programs that provide basic essentials to impoverished children and families in the North Metro area. &nbsp\;&#8232\;&#8232\;</span></font></span></p>\n<p class="MsoNormal" style="margin-bottom: 12pt\; mso-pagination: none\; mso-layout-grid-align: none">\n	<span style="font-size: 14px"><font class="Apple-style-span" face="Arial"><span style="font-family: arial\; color: #222222\; mso-bidi-font-family: arial">We would be extremely grateful to have the support from Members of the Broomfield Chamber of Commerce\, in making this year&#39\;s &#39\;Carnevale!&#39\; a huge success\, and raise the necessary funds to provide services for our Colorado children and families in need!</span></font></span></p>\n<p class="MsoNormal">\n	<span style="font-size: 14px"><font class="Apple-style-span" face="Arial"><span style="font-family: arial\; color: #222222\; mso-bidi-font-family: arial">If you are interested in learning about our Sponsorship Levels\, or you would like to make a Prize Donation\, please contact Taylor Keyes by calling 435.962.0710 or by emailing<a href="mailto:taylor@apreciouschild.org">mailto:taylor@apreciouschild.org</a>. &#8232\;</span></font></span></p>\n<br />\n<font class="Apple-style-span" face="Arial">&nbsp\;</font>
LOCATION:Season's Bliss Event Center 665 Flatiron Marketplace Dr. Broomfield\, CO 80021
UID:e.641.3470
SEQUENCE:3
DTSTAMP:20260419T193413Z
URL:http://business.broomfieldchamber.com/events/details/carnevale-annual-benefit-for-a-precious-child-02-25-2012-3470
END:VEVENT

END:VCALENDAR
