BEGIN:VCALENDAR
VERSION:2.0
PRODID:-//ChamberMaster//Event Calendar 2.0//EN
METHOD:PUBLISH
X-PUBLISHED-TTL:P3D
REFRESH-INTERVAL:P3D
CALSCALE:GREGORIAN
BEGIN:VEVENT
DTSTART;VALUE=DATE:20110204
DTEND;VALUE=DATE:20110214
TRANSP:TRANSPARENT
X-MICROSOFT-CDO-ALLDAYEVENT:TRUE
SUMMARY:Carry On by BNC Dance
DESCRIPTION:BNC comes together with Paper Bird\, one of Colorado's most popular bands\, to create a boundary-breaking and genre-defying artistic experience. With new music by Paper Bird and choreography and films by Garrett Ammon\, Carry On will be BNC's most daring multi-media performance experience yet.
X-ALT-DESC;FMTTYPE=text/html:BNC comes together with Paper Bird\, one of Colorado's most popular bands\, to create a boundary-breaking and genre-defying artistic experience. With new music by Paper Bird and choreography and films by Garrett Ammon\, Carry On will be BNC's most daring multi-media performance experience yet.
LOCATION:Lakewood Cultural Center February 4th - 6th Performing Arts Complex at PCS February 11th - 13th
UID:e.641.1204
SEQUENCE:3
DTSTAMP:20260420T124736Z
URL:http://business.broomfieldchamber.com/events/details/carry-on-by-bnc-dance-02-04-2011-1204
END:VEVENT

END:VCALENDAR
