BEGIN:VCALENDAR
VERSION:2.0
PRODID:-//ChamberMaster//Event Calendar 2.0//EN
METHOD:PUBLISH
X-PUBLISHED-TTL:P3D
REFRESH-INTERVAL:P3D
CALSCALE:GREGORIAN
BEGIN:VEVENT
DTSTART;VALUE=DATE:20110204
DTEND;VALUE=DATE:20110214
TRANSP:TRANSPARENT
X-MICROSOFT-CDO-ALLDAYEVENT:TRUE
SUMMARY:Carry On Featuring PAPER BIRD
DESCRIPTION:February 4-13\n\n\n\nBNC comes together with Paper Bird\, one of Colorado's most popular bands\, to create a boundary-breaking and genre-defying artistic experience. With new music by Paper Bird and choreography and films by Garrett Ammon\, Carry On will be BNC's most daring multi-media performance experience yet.\n\n\n\nPaper Bird -A brief biography\n\n\n\npaperbirdband.com\n\n\n\nLakewood Cultural Center\n\n470 S. Allison Parkway\, Lakewood\, CO 80226\n\nFriday\, February 4 - 8pm\n\nSaturday\, February 5 - 8pm\n\nSunday\, February 6 - 2pm\n\n\n\nPerforming Arts Complex at PCS\n\n1001 W. 84th Avenue\, Denver\, CO 80260\n\nFriday\, February 11 - 8pm\n\nSaturday\, February 12 - 8pm\n\nSunday\, February 13 - 2pm\n\n\n\nGet tickets now!\n\n\n\nRegular Ticket Prices: $44 Prime\, $30 Standard\, $17 Value\n\nChild/Student/Senior Ticket Prices: $37 Prime\, $26 Standard\, $15 Value
X-ALT-DESC;FMTTYPE=text/html:<strong>February 4-13</strong><br />\n<br />\nBNC comes together with Paper Bird\, one of Colorado&#39\;s most popular bands\, to create a boundary-breaking and genre-defying artistic experience. With new music by Paper Bird and choreography and films by Garrett Ammon\, Carry On will be BNC&#39\;s most daring multi-media performance experience yet.<br />\n<br />\nPaper Bird -A brief biography<br />\n<br />\npaperbirdband.com<br />\n<br />\nLakewood Cultural Center<br />\n470 S. Allison Parkway\, Lakewood\, CO 80226<br />\n<strong>Friday\, February 4&nbsp\;- 8pm<br />\nSaturday\, February 5&nbsp\;- 8pm<br />\nSunday\, February 6&nbsp\;- 2pm</strong><br />\n<br />\nPerforming Arts Complex at PCS<br />\n1001 W. 84th Avenue\, Denver\, CO 80260<br />\n<strong>Friday\, February 11&nbsp\;- 8pm<br />\nSaturday\, February 12&nbsp\;- 8pm<br />\nSunday\, February 13&nbsp\;- 2pm</strong><br />\n<br />\nGet tickets now!<br />\n<br />\nRegular Ticket Prices: $44 Prime\, $30 Standard\, $17 Value<br />\nChild/Student/Senior Ticket Prices: $37 Prime\, $26 Standard\, $15 Value
LOCATION:Lakewood Cultural Center 470 S. Allison Parkway\, Lakewood\, CO 80226 Performing Arts Complex at PCS 1001 W. 84th Avenue\, Denver\, CO 80260
UID:e.641.1272
SEQUENCE:3
DTSTAMP:20260420T124731Z
URL:http://business.broomfieldchamber.com/events/details/carry-on-featuring-paper-bird-02-04-2011-1272
END:VEVENT

END:VCALENDAR
