BEGIN:VCALENDAR
VERSION:2.0
PRODID:-//ChamberMaster//Event Calendar 2.0//EN
METHOD:PUBLISH
X-PUBLISHED-TTL:P3D
REFRESH-INTERVAL:P3D
CALSCALE:GREGORIAN
BEGIN:VEVENT
DTSTART:20120209T183000Z
DTEND:20120209T200000Z
X-MICROSOFT-CDO-ALLDAYEVENT:FALSE
SUMMARY:CASA 101
DESCRIPTION:Join us for an introduction to CASA (Court Appointed Special Advocates) for Adams and Broomfield Counties and learn how you can use your voice to speak up on behalf of an abused and neglected child in court.\n\n	\n\n	Lunch will be provided by our caring community partner\, Marco's Pizza.
X-ALT-DESC;FMTTYPE=text/html:<p>\n	Join us for an introduction to CASA (Court Appointed Special Advocates) for Adams and Broomfield Counties and learn how you can use your voice to speak up on behalf of an abused and neglected child in court.<br />\n	<br />\n	Lunch will be provided by our caring community partner\, Marco&#39\;s Pizza.</p>\n
LOCATION:Broomfield United Methodist Church\, Fellowship Hall 545 W. 10th Ave\, Broomfield
UID:e.641.3220
SEQUENCE:3
DTSTAMP:20260419T193010Z
URL:http://business.broomfieldchamber.com/events/details/casa-101-02-09-2012-3220
END:VEVENT

END:VCALENDAR
