BEGIN:VCALENDAR
VERSION:2.0
PRODID:-//ChamberMaster//Event Calendar 2.0//EN
METHOD:PUBLISH
X-PUBLISHED-TTL:P3D
REFRESH-INTERVAL:P3D
CALSCALE:GREGORIAN
BEGIN:VEVENT
DTSTART:20120320T233000Z
DTEND:20120321T010000Z
X-MICROSOFT-CDO-ALLDAYEVENT:FALSE
SUMMARY:"Casseroles and Comfort Food" at Mountain High Appliance
DESCRIPTION:BACK BY POPULAR DEMAND:  "Casseroles and Comfort Food" by our own Executive Chef Deb Traylor. \n\n	Whether it's preparing ahead for the freezer or creatively "throwing together" a last minute meal\, the tummy loves a tasty casserole like the King Ranch Chicken Casserole or the Ham and Leek Meat Pie.  One-Dish Pinto Bean and Sweet Potato Chili is perfect for apres-ski. \n\n	Learn how to make Stuffed Polenta with Bolognese and how to create the perfect Potato Gratin to add to any meal.  Don't forget the dessert - Sticky Toffee Pudding Cake with Bourbon Whipped Cream.
X-ALT-DESC;FMTTYPE=text/html:<p>\n	<span style="font-family: verdana"><span style="font-size: 14px"><strong>BACK BY POPULAR DEMAND:&nbsp\; &quot\;Casseroles and Comfort Food&quot\;</strong> by our own Executive Chef Deb Traylor.&nbsp\;<br />\n	Whether it&#39\;s preparing ahead for the freezer or creatively &quot\;throwing together&quot\; a last minute meal\, the tummy loves a tasty casserole like the King Ranch Chicken Casserole or the Ham and Leek Meat Pie.&nbsp\; One-Dish Pinto Bean and Sweet Potato Chili is perfect for apres-ski.&nbsp\;<br />\n	Learn how to make Stuffed Polenta with Bolognese and how to create the perfect Potato Gratin to add to any meal.&nbsp\; Don&#39\;t forget the dessert - Sticky Toffee Pudding Cake with Bourbon Whipped Cream.</span></span></p>\n
LOCATION:1130 Pine St.\, Louisville\, Co. 80027
UID:e.641.3490
SEQUENCE:3
DTSTAMP:20260419T193636Z
URL:http://business.broomfieldchamber.com/events/details/casseroles-and-comfort-food-at-mountain-high-appliance-03-20-2012-3490
END:VEVENT

END:VCALENDAR
