BEGIN:VCALENDAR
VERSION:2.0
PRODID:-//ChamberMaster//Event Calendar 2.0//EN
METHOD:PUBLISH
X-PUBLISHED-TTL:P3D
REFRESH-INTERVAL:P3D
CALSCALE:GREGORIAN
BEGIN:VEVENT
DTSTART;VALUE=DATE:20100809
DTEND;VALUE=DATE:20100824
TRANSP:TRANSPARENT
X-MICROSOFT-CDO-ALLDAYEVENT:TRUE
SUMMARY:CB & Potts Monday Burgers Beer & Bingo
DESCRIPTION:Burgers Beer & Bingo Every Monday! \n\n$2.00 Off Burgers all day long every Monday\n$2.00 Beers and Free Bingo at 9:00pm every Monday
X-ALT-DESC;FMTTYPE=text/html:<div>Burgers Beer &amp\; Bingo Every Monday! <br /><br />$2.00 Off Burgers all day long&nbsp\;every Monday</div><div><br />$2.00 Beers and Free Bingo at 9:00pm every Monday</div>
LOCATION:CB & Potts 555 Zang Street Broomfield\, CO 80020
UID:e.641.1156
SEQUENCE:3
DTSTAMP:20260420T215905Z
URL:http://business.broomfieldchamber.com/events/details/cb-potts-monday-burgers-beer-bingo-08-09-2010-1156
END:VEVENT

END:VCALENDAR
