BEGIN:VCALENDAR
VERSION:2.0
PRODID:-//ChamberMaster//Event Calendar 2.0//EN
METHOD:PUBLISH
X-PUBLISHED-TTL:P3D
REFRESH-INTERVAL:P3D
CALSCALE:GREGORIAN
BEGIN:VEVENT
DTSTART:20100411T003000Z
DTEND:20100411T030000Z
X-MICROSOFT-CDO-ALLDAYEVENT:FALSE
SUMMARY:Chamber Member Event at Highland Trail - Retirement Community
DESCRIPTION:Senior Prom: come join us for a dance and refreshments with Broomfield H.S. Seniors and our Senior Citizen residents.
X-ALT-DESC;FMTTYPE=text/html:Senior Prom: come join us for a dance and refreshments with Broomfield H.S. Seniors and our Senior Citizen residents.
LOCATION:5085 W. 136th Ave. Broomfield\, CO 80023
UID:e.641.1014
SEQUENCE:3
DTSTAMP:20260421T042711Z
URL:http://business.broomfieldchamber.com/events/details/chamber-member-event-at-highland-trail-retirement-community-04-10-2010-1014
END:VEVENT

END:VCALENDAR
