BEGIN:VCALENDAR
VERSION:2.0
PRODID:-//ChamberMaster//Event Calendar 2.0//EN
METHOD:PUBLISH
X-PUBLISHED-TTL:P3D
REFRESH-INTERVAL:P3D
CALSCALE:GREGORIAN
BEGIN:VEVENT
DTSTART:20100415T181500Z
DTEND:20100415T203000Z
X-MICROSOFT-CDO-ALLDAYEVENT:FALSE
SUMMARY:Chamber Member Event at Highland Trail - Retirement Community
DESCRIPTION:Dinner & Entertainment: Heartlanders musical variety duo.
X-ALT-DESC;FMTTYPE=text/html:Dinner &amp\; Entertainment: Heartlanders musical variety duo.
LOCATION:5085 W. 136th Ave.
UID:e.641.1015
SEQUENCE:3
DTSTAMP:20260421T042712Z
URL:http://business.broomfieldchamber.com/events/details/chamber-member-event-at-highland-trail-retirement-community-04-15-2010-1015
END:VEVENT

END:VCALENDAR
