BEGIN:VCALENDAR
VERSION:2.0
PRODID:-//ChamberMaster//Event Calendar 2.0//EN
METHOD:PUBLISH
X-PUBLISHED-TTL:P3D
REFRESH-INTERVAL:P3D
CALSCALE:GREGORIAN
BEGIN:VEVENT
DTSTART:20100429T181500Z
DTEND:20100429T203000Z
X-MICROSOFT-CDO-ALLDAYEVENT:FALSE
SUMMARY:Chamber Member Event at Highland Trail - Retirement Community
DESCRIPTION:Highland Trail: dinner & entertainment with Gary Sattazahn. Trumpet-Putting on the Ritz
X-ALT-DESC;FMTTYPE=text/html:Highland Trail: dinner &amp\; entertainment with Gary Sattazahn. Trumpet-Putting on the Ritz
LOCATION:5085 W. 136th Ave. Broomfield\, CO 80023
UID:e.641.1016
SEQUENCE:3
DTSTAMP:20260421T040829Z
URL:http://business.broomfieldchamber.com/events/details/chamber-member-event-at-highland-trail-retirement-community-04-29-2010-1016
END:VEVENT

END:VCALENDAR
